BEGIN:VCALENDAR
VERSION:2.0
PRODID:-//pretix//pretix.eu//
BEGIN:VTIMEZONE
TZID:Europe/Berlin
BEGIN:STANDARD
DTSTART:20001029T040000
RRULE:FREQ=YEARLY;BYDAY=-1SU;BYMONTH=10
TZNAME:CET
TZOFFSETFROM:+0200
TZOFFSETTO:+0100
END:STANDARD
BEGIN:DAYLIGHT
DTSTART:20000326T030000
RRULE:FREQ=YEARLY;BYDAY=-1SU;BYMONTH=3
TZNAME:CEST
TZOFFSETFROM:+0100
TZOFFSETTO:+0200
END:DAYLIGHT
END:VTIMEZONE
BEGIN:VEVENT
UID:pretix-theater-am-turm-wort-klang-0@tickets.theater-am-turm.de
DTSTART;TZID=Europe/Berlin:20250928T110000
DTEND;TZID=Europe/Berlin:20250928T120000
DESCRIPTION:Tickets: https://tickets.theater-am-turm.de/wort-klang/\nEinlas
 s: 03.01.2026 19:30\nVeranstalter: Theater Am Turm - Villinger Sommertheat
 er e.V.
DTSTAMP:20260421T085054Z
LOCATION:Theater am Turm
SUMMARY:Wort#Klang
END:VEVENT
END:VCALENDAR
